BEGIN:VCALENDAR
VERSION:2.0
PRODID:-//360 Alumni//Australia Awards PNG//EN
METHOD:REQUEST
BEGIN:VEVENT
UID:11628
DTSTAMP:20260203T080000Z
DTSTART:20260203T080000Z
DTEND:20260205T170000Z
LOCATION:Australia Awards PNG Office Conference Room, Port Moresby
SUMMARY: Apply now for Counselling Professional Development Course
DESCRIPTION: Alumni Workshop:&nbsp;Apply now for&nbsp;Counselling Professional Development Course&nbsp;Course Objective This three-day professional development workshop facilitated by Griffith University will build capacity by equipping alumni with the necessary models and skills to effectively communicate, including managing difficult conversations, maintaining professional boundaries, and understanding the limits of their role. The Course will also provide the participants with the skills to protect their own mental health when interacting with others.FAQsHow is the workshop structured? The 3-day workshop will include mini-lectures, large and small group discussion, group and individual activities, role-plays, simulations, and case studies, drawing on participants' experience in their respective roles.Is this course for Counsellors? No, this course is for anyone whose work involves managing groups of people. No prior knowledge of Counselling is expected.&nbsp;To ApplyClick this link: https://smr.to/p108076&nbsp;Workshop dates: 03&ndash;05 February 2026 Venue: Australia Awards PNG Office Conference Room, Port Moresby&nbsp;Application Deadline: 22 January 2026&nbsp;For Inquiries:Email: alumni@australiaawardspng.orgPhone: 321 1766 | 7373 3800&nbsp;
END:VEVENT
END:VCALENDAR
